Workbook

Sheet Info
A1: Exportált költségvetés adatai
A2: Költségvetés neve: | B2: Mór Bozóky kerítés
A3: Leírás: | B3: Leromlott állapotú kerítés javítása , helyreállítása , helyenként új alapozással , alapmegerősítéssel , vagy szakaszos aláalapozással .
A4: Költségvetés jellege: | B4: Felújítás
A5: Tételek száma: | B5: 22 db
A6: Munkanemek száma: | B6: 8 db
A7: Fejezetek száma: | B7: Nem fejezetes
A8: Építmény tulajdonsága: | B8: Egyéb építmény
A10: Utolsó módosítás: | B10: 2026-09-17 16:03:12
A12: Rezsióradíj:
A13: Bruttó végösszeg: | B13: =Főösszesítő!C8 -> 22093066
A15: Készítette: | B15: pelaprojectkft@gmail.com
A17: Figyelem!
A18: Ez az információs ablak az exportálással létrejött költségvetés alapadatait tartalmazza!
A21: A további munkafüzet-lapokon történő változtatások nincsenek hatással az oldal adataira! Továbbá az ezen az oldalon kiadott módosítások nem változtatják a költségvetés adatait!
A26: Készült a TERC-ETALON Online Építőipari Költségvetés-készítő és Kiíró Programrendszerrel
A28: http://www.etalon.terc.hu

Sheet Főösszesítő
A3: Költségvetés főösszesítő
A4: Megnevezés | C4: Anyagköltség | D4: Díjköltség
A5: 1 Építmény közvetlen költségei | C5: ='Munkanem összesítő'!C10 -> 6002066 | D5: ='Munkanem összesítő'!D10 -> 11394049
A6: 2.1 ÁFA vetítési alap | C6: =ROUND(C5+D5,0) -> 17396115
A7: 2.2 ÁFA | B7: 0.27 | C7: =ROUND(C6*B7,0) -> 4696951
A8: 3 A munka ára (HUF) | C8: =ROUND(C7+C6,0) -> 22093066

Sheet Munkanem összesítő
A1: Ssz. | B1: Megnevezés | C1: Anyagköltség | D1: Díjköltség
A2: 2 | B2: Bontás, építőanyagok újrahasznosítása | C2: ='2.Bontás, építőanyagok újraha'!H5 -> 1320000 | D2: ='2.Bontás, építőanyagok újraha'!I5 -> 223537
A3: 3 | B3: Organizáció | C3: ='3.Organizáció'!H6 -> 465180 | D3: ='3.Organizáció'!I6 -> 202125
A4: 15 | B4: Zsaluzás és állványozás | C4: ='15.Zsaluzás és állványozás'!H4 -> 591329 | D4: ='15.Zsaluzás és állványozás'!I4 -> 1341165
A5: 21 | B5: Irtás, föld- és sziklamunka | C5: ='21.Irtás, föld- és sziklamunka'!H6 -> 0 | D5: ='21.Irtás, föld- és sziklamunka'!I6 -> 1009945
A6: 23 | B6: Síkalapozás | C6: ='23.Síkalapozás'!H4 -> 2249416 | D6: ='23.Síkalapozás'!I4 -> 5020680
A7: 31 | B7: Helyszíni beton és vasbeton munkák | C7: ='31.Helyszíni beton és vasbeton'!H7 -> 1279751 | D7: ='31.Helyszíni beton és vasbeton'!I7 -> 3003653
A8: 61 | B8: Útburkolat alap és makadámburkolat készítése | C8: ='61.Útburkolat alap és makadámb'!H3 -> 0 | D8: ='61.Útburkolat alap és makadámb'!I3 -> 466860
A9: 62 | B9: Kőburkolat készítése | C9: ='62.Kőburkolat készítése'!H3 -> 96390 | D9: ='62.Kőburkolat készítése'!I3 -> 126084
B10: Összesen (HUF) | C10: =ROUND(SUM(C2:C9),0) -> 6002066 | D10: =ROUND(SUM(D2:D9),0) -> 11394049

Sheet 2.Bontás, építőanyagok újraha
A1: Ssz. | B1: Tételszám | C1: Tétel szövege | D1: Menny. | E1: Egység | F1: Anyag egységár | G1: Díj egységre | H1: Anyag összesen | I1: Díj összesen | J1: Megjegyzés | K1: ÉNGY kód | L1: K. jelző | M1: Munkanem | N1: Normaidő
A2: 1 | B2: 02-030-7.2 | C2: Vegyes építési- bontási törmelék berakása konténerbe gépi erővel, kiegészítő kézi munkával | D2: 77 | E2: m³ | F2: 0 | G2: 1781 | H2: =ROUND(F2*D2,0) -> 0 | I2: =ROUND(G2*D2,0) -> 137137 | K2: 20303277224 | L2: ÖN | M2: 2 | N2: 0.05
A3: 2 | B3: 21-011-11.6 | C3: Építési törmelék konténeres elszállítása, lerakása, lerakóhelyi díjjal, 8,0 m³-es konténerbe | D3: 10 | E3: db | F3: 132000 | G3: 0 | H3: =ROUND(F3*D3,0) -> 1320000 | I3: =ROUND(G3*D3,0) -> 0 | K3: 210110016791 | L3: ÖN | M3: 2 | N3: 0
A4: 3 | B4: 21-011-12 | C4: Munkahelyi depóniából építési törmelék konténerbe rakása, kézi erővel, önálló munka esetén elszámolva, konténer szállítás nélkül | D4: 6 | E4: m³ | F4: 0 | G4: 14400 | H4: =ROUND(F4*D4,0) -> 0 | I4: =ROUND(G4*D4,0) -> 86400 | K4: 210110016825 | L4: ÖN | M4: 2 | N4: 1.2
C5: Munkanem összesen (HUF) | H5: =ROUND(SUM(H2:H4),0) -> 1320000 | I5: =ROUND(SUM(I2:I4),0) -> 223537

Sheet 3.Organizáció
A1: Ssz. | B1: Tételszám | C1: Tétel szövege | D1: Menny. | E1: Egység | F1: Anyag egységár | G1: Díj egységre | H1: Anyag összesen | I1: Díj összesen | J1: Megjegyzés | K1: ÉNGY kód | L1: K. jelző | M1: Munkanem | N1: Normaidő
A2: 1 | B2: 12-010-1.1-0025052 | C2: Mobil kerítés bérleti díj elszámolása, szállítás, telepítés-bontás nélkül, dróthálós mobil kerítés, Dróthálós mobil kerítés, merev acélvázzal, előgalvanizált, 3,5x2,0 m-es táblaméret, bérleti díj/nap | D2: 75 | E2: m | F2: 1312 | G2: 2695 | H2: =ROUND(F2*D2,0) -> 98400 | I2: =ROUND(G2*D2,0) -> 202125 | K2: 120105140112 | L2: ÖN | M2: 3 | N2: 0
A3: 2 | B3: 12-011-1.1-0025001 | C3: Mobil WC bérleti díj elszámolása, szállítással, heti tisztítással, karbantartással, Mobil WC alap, bérleti díj/hó | D3: 3 | E3: db | F3: 32970 | G3: 0 | H3: =ROUND(F3*D3,0) -> 98910 | I3: =ROUND(G3*D3,0) -> 0 | K3: 120112051476 | L3: ÖN | M3: 3 | N3: 0
A4: 3 | B4: 12-012-1.1.2-0025003 | C4: Konténer bérleti díj elszámolása, raktár konténer, 10,01-20,00 m² alapterület között, Raktár konténer, 10,01 - 20,00 m² között, bérleti díj/hó | D4: 3 | E4: db | F4: 42040 | G4: 0 | H4: =ROUND(F4*D4,0) -> 126120 | I4: =ROUND(G4*D4,0) -> 0 | K4: 120122051490 | L4: ÖN | M4: 3 | N4: 0
A5: 4 | B5: 12-012-1.2.2-0025006 | C5: Konténer bérleti díj elszámolása, iroda konténer 10,01-20,00 m² alapterület között, Iroda konténer, 10,01 - 20,00 m² között, bérleti díj/hó | D5: 3 | E5: db | F5: 47250 | G5: 0 | H5: =ROUND(F5*D5,0) -> 141750 | I5: =ROUND(G5*D5,0) -> 0 | K5: 120122051524 | L5: ÖN | M5: 3 | N5: 0
C6: Munkanem összesen (HUF) | H6: =ROUND(SUM(H2:H5),0) -> 465180 | I6: =ROUND(SUM(I2:I5),0) -> 202125

Sheet 15.Zsaluzás és állványozás
A1: Ssz. | B1: Tételszám | C1: Tétel szövege | D1: Menny. | E1: Egység | F1: Anyag egységár | G1: Díj egységre | H1: Anyag összesen | I1: Díj összesen | J1: Megjegyzés | K1: ÉNGY kód | L1: K. jelző | M1: Munkanem | N1: Normaidő
A2: 1 | B2: 15-001-1 | C2: Sávalap egyoldalas zsaluzása fa zsaluzattal, max. 0,8 m magasságig | D2: 23 | E2: m² | F2: 4243 | G2: 14120 | H2: =ROUND(F2*D2,0) -> 97589 | I2: =ROUND(G2*D2,0) -> 324760 | K2: 150010010784 | L2: ÖN | M2: 15 | N2: 1.01
A3: 2 | B3: 15-002-1.2.1 | C3: Kétoldali falzsaluzás függőleges vagy ferde sík felülettel, (számítása: betonnal érintkező zsalufelület m2-ben), szerelt táblás zsaluzattal, kézzel mozgatva, 3 m magasságig | D3: 65 | E3: m² | F3: 7596 | G3: 15637 | H3: =ROUND(F3*D3,0) -> 493740 | I3: =ROUND(G3*D3,0) -> 1016405 | K3: 150020010873 | L3: ÖN | M3: 15 | N3: 0.98
C4: Munkanem összesen (HUF) | H4: =ROUND(SUM(H2:H3),0) -> 591329 | I4: =ROUND(SUM(I2:I3),0) -> 1341165

Sheet 21.Irtás, föld- és sziklamunka
A1: Ssz. | B1: Tételszám | C1: Tétel szövege | D1: Menny. | E1: Egység | F1: Anyag egységár | G1: Díj egységre | H1: Anyag összesen | I1: Díj összesen | J1: Megjegyzés | K1: ÉNGY kód | L1: K. jelző | M1: Munkanem | N1: Normaidő
A2: 1 | B2: 21-003-6.1.1 | C2: Munkaárok földkiemelése közmű nélküli területen, gépi erővel, kiegészítő kézi munkával, bármely konzisztenciájú, I-IV. oszt. talajban, dúcolás nélkül, 3,0 m² szelvényig | D2: 5 | E2: m³ | F2: 0 | G2: 8501 | H2: =ROUND(F2*D2,0) -> 0 | I2: =ROUND(G2*D2,0) -> 42505 | K2: 210030014884 | L2: ÖN | M2: 21 | N2: 0.63
A3: 2 | B3: 21-003-5.1.1.3 | C3: Munkaárok földkiemelése közművesített területen, kézi erővel, bármely konzisztenciájú talajban, dúcolás nélkül, 2,0 m² szelvényig, IV. talajosztály | D3: 22 | E3: m³ | F3: 0 | G3: 38640 | H3: =ROUND(F3*D3,0) -> 0 | I3: =ROUND(G3*D3,0) -> 850080 | K3: 210030014722 | L3: ÖN | M3: 21 | N3: 3.22
A4: 3 | B4: 21-003-11.1.2 | C4: Földvisszatöltés munkagödörbe vagy munkaárokba, tömörítés nélkül, réteges elterítéssel, I-IV. osztályú talajban, kézi erővel, az anyag súlypontja karoláson belül, a vezetéket (műtárgyat) környező 50 cm-en túli szelvényben | D4: 6 | E4: m³ | F4: 0 | G4: 10200 | H4: =ROUND(F4*D4,0) -> 0 | I4: =ROUND(G4*D4,0) -> 61200 | K4: 210030015361 | L4: ÖN | M4: 21 | N4: 0.85
A5: 4 | B5: 21-008-1.1.3 | C5: Döngölés kézi erővel száraz, földnedves IV. fejtési talajosztályban | D5: 6 | E5: m³ | F5: 0 | G5: 9360 | H5: =ROUND(F5*D5,0) -> 0 | I5: =ROUND(G5*D5,0) -> 56160 | K5: 210080016154 | L5: ÖN | M5: 21 | N5: 0.78
C6: Munkanem összesen (HUF) | H6: =ROUND(SUM(H2:H5),0) -> 0 | I6: =ROUND(SUM(I2:I5),0) -> 1009945

Sheet 23.Síkalapozás
A1: Ssz. | B1: Tételszám | C1: Tétel szövege | D1: Menny. | E1: Egység | F1: Anyag egységár | G1: Díj egységre | H1: Anyag összesen | I1: Díj összesen | J1: Megjegyzés | K1: ÉNGY kód | L1: K. jelző | M1: Munkanem | N1: Normaidő
A2: 1 | B2: 23-000-1 | C2: Tégla- és kőalapok bontása | D2: 43 | E2: m³ | F2: 0 | G2: 77040 | H2: =ROUND(F2*D2,0) -> 0 | I2: =ROUND(G2*D2,0) -> 3312720 | K2: 230000023221 | L2: ÖN | M2: 23 | N2: 6.42
A3: 2 | B3: 23-003-3-0242210 | C3: Vasbeton sáv-, talp-, lemez- vagy gerendaalap készítése helyszínen kevert .....minőségű betonból, C25/30 - XC2 - 16 - F3 - CEM 32,5, m = 6,6 finomsági modulussal | D3: 43 | E3: m³ | F3: 52312 | G3: 39720 | H3: =ROUND(F3*D3,0) -> 2249416 | I3: =ROUND(G3*D3,0) -> 1707960 | K3: 230030024335 | L3: ÖN | M3: 23 | N3: 3.31
C4: Munkanem összesen (HUF) | H4: =ROUND(SUM(H2:H3),0) -> 2249416 | I4: =ROUND(SUM(I2:I3),0) -> 5020680

Sheet 31.Helyszíni beton és vasbeton
A1: Ssz. | B1: Tételszám | C1: Tétel szövege | D1: Menny. | E1: Egység | F1: Anyag egységár | G1: Díj egységre | H1: Anyag összesen | I1: Díj összesen | J1: Megjegyzés | K1: ÉNGY kód | L1: K. jelző | M1: Munkanem | N1: Normaidő
A2: 1 | B2: 31-000-14.2 | C2: Beton aljzatok, járdák bontása 10 cm vastagság felett, kavicsbetonból | D2: 3 | E2: m³ | F2: 0 | G2: 138000 | H2: =ROUND(F2*D2,0) -> 0 | I2: =ROUND(G2*D2,0) -> 414000 | K2: 310000034875 | L2: ÖN | M2: 31 | N2: 11.5
A3: 2 | B3: 31-001-1.2.1-0221000 | C3: Betonacél helyszíni szerelése függőleges vagy vízszintes tartószerkezetbe, bordás betonacélból, 4-11 mm átmérő között, FERALPI bordás betonacél, 6 m-es szálban, B500B 8 mm | D3: 0.18 | E3: t | F3: 285120 | G3: 796133 | H3: =ROUND(F3*D3,0) -> 51322 | I3: =ROUND(G3*D3,0) -> 143304 | K3: 310014594020 | L3: ÖN | M3: 31 | N3: 65.7
A4: 3 | B4: 31-001-1.2.2-0220957 | C4: Betonacél helyszíni szerelése függőleges vagy vízszintes tartószerkezetbe, bordás betonacélból, 12-20 mm átmérő között, FERALPI hidegen húzott bordás betonacél, 6 m-es szálban, B500A (BHB55.50) 12 mm | D4: 0.46 | E4: t | F4: 298080 | G4: 796133 | H4: =ROUND(F4*D4,0) -> 137117 | I4: =ROUND(G4*D4,0) -> 366221 | K4: 310014594020 | L4: ÖN | M4: 31 | N4: 42.46
A5: 4 | B5: 31-011-3.3.2-0241510 | C5: Vasbetonfal készítése, X0v(H), XC1, XC2, XC3 környezeti osztályú, kissé képlékeny vagy képlékeny konzisztenciájú betonból, szivattyús technológiával, vibrátoros tömörítéssel, 13-24 cm vastagság között, C25/30 - XC2 - 24 - F3 - CEM 42,5, m = 7,1 finomsági modulussal | D5: 9 | E5: m³ | F5: 59510 | G5: 44712 | H5: =ROUND(F5*D5,0) -> 535590 | I5: =ROUND(G5*D5,0) -> 402408 | K5: 310110041110 | L5: ÖN | M5: 31 | N5: 1.22
A6: 5 | B6: 31-051-6.2.1 | C6: Vasbeton fedkő, fedlap készítése, fedkő cementhabarcs simítással, zsaluzással, vízorrképzéssel,betonacél szereléssel, beton kézi tömörítésével,X0b(H), XN(H) környezeti osztályú,kissé képlékeny konzisztenciájú betonból, 10 cm vastagságig | D6: 46.5 | E6: m² | F6: 11951 | G6: 36080 | H6: =ROUND(F6*D6,0) -> 555722 | I6: =ROUND(G6*D6,0) -> 1677720 | L6: ÖN | M6: 31 | N6: 3.84
C7: Munkanem összesen (HUF) | H7: =ROUND(SUM(H2:H6),0) -> 1279751 | I7: =ROUND(SUM(I2:I6),0) -> 3003653

Sheet 61.Útburkolat alap és makadámb
A1: Ssz. | B1: Tételszám | C1: Tétel szövege | D1: Menny. | E1: Egység | F1: Anyag egységár | G1: Díj egységre | H1: Anyag összesen | I1: Díj összesen | J1: Megjegyzés | K1: ÉNGY kód | L1: K. jelző | M1: Munkanem | N1: Normaidő
A2: 1 | B2: 61-001-2.1 | C2: Útalapbeton, valamint hidraulikus kötőanyaggal vagy bitumennel stabilizált rétegek bontása, kézi erővel, légkalapáccsal, 4 m²-nél kisebb foltokban | D2: 10 | E2: m³ | F2: 0 | G2: 46686 | H2: =ROUND(F2*D2,0) -> 0 | I2: =ROUND(G2*D2,0) -> 466860 | K2: 610010674726 | L2: ÖN | M2: 61 | N2: 3.46
C3: Munkanem összesen (HUF) | H3: =ROUND(SUM(H2:H2),0) -> 0 | I3: =ROUND(SUM(I2:I2),0) -> 466860

Sheet 62.Kőburkolat készítése
A1: Ssz. | B1: Tételszám | C1: Tétel szövege | D1: Menny. | E1: Egység | F1: Anyag egységár | G1: Díj egységre | H1: Anyag összesen | I1: Díj összesen | J1: Megjegyzés | K1: ÉNGY kód | L1: K. jelző | M1: Munkanem | N1: Normaidő
A2: 1 | B2: 62-002-11.2-0613244 | C2: Klasszikus útszegély készítése, alapárok kiemelése nélkül, betonhézagolással, 100 cm hosszú elemekből, LEIER Quartz kiemelt útszegélykő, szürke, 100x15/12x30 cm, Cikkszám: HUTJS1083 | D2: 21 | E2: m | F2: 4590 | G2: 6004 | H2: =ROUND(F2*D2,0) -> 96390 | I2: =ROUND(G2*D2,0) -> 126084 | K2: 620020677723 | L2: ÖN | M2: 62 | N2: 0.24
C3: Munkanem összesen (HUF) | H3: =ROUND(SUM(H2:H2),0) -> 96390 | I3: =ROUND(SUM(I2:I2),0) -> 126084
